    BEGIN:VCALENDAR
VERSION:2.0
PRODID:-//MNB Center - ECPv6.15.13.1//NONSGML v1.0//EN
CALSCALE:GREGORIAN
METHOD:PUBLISH
X-WR-CALNAME:MNB Center
X-ORIGINAL-URL:https://www.mnbcenter.gr
X-WR-CALDESC:Events for MNB Center
REFRESH-INTERVAL;VALUE=DURATION:PT1H
X-Robots-Tag:noindex
X-PUBLISHED-TTL:PT1H
BEGIN:VTIMEZONE
TZID:Europe/Athens
BEGIN:DAYLIGHT
TZOFFSETFROM:+0200
TZOFFSETTO:+0300
TZNAME:EEST
DTSTART:20250330T010000
END:DAYLIGHT
BEGIN:STANDARD
TZOFFSETFROM:+0300
TZOFFSETTO:+0200
TZNAME:EET
DTSTART:20251026T010000
END:STANDARD
BEGIN:DAYLIGHT
TZOFFSETFROM:+0200
TZOFFSETTO:+0300
TZNAME:EEST
DTSTART:20260329T010000
END:DAYLIGHT
BEGIN:STANDARD
TZOFFSETFROM:+0300
TZOFFSETTO:+0200
TZNAME:EET
DTSTART:20261025T010000
END:STANDARD
BEGIN:DAYLIGHT
TZOFFSETFROM:+0200
TZOFFSETTO:+0300
TZNAME:EEST
DTSTART:20270328T010000
END:DAYLIGHT
BEGIN:STANDARD
TZOFFSETFROM:+0300
TZOFFSETTO:+0200
TZNAME:EET
DTSTART:20271031T010000
END:STANDARD
END:VTIMEZONE
BEGIN:VEVENT
DTSTART;TZID=Europe/Athens:20260425T110000
DTEND;TZID=Europe/Athens:20260425T123000
DTSTAMP:20260425T055436
CREATED:20260217T230253Z
LAST-MODIFIED:20260227T181427Z
UID:144811-1777114800-1777120200@www.mnbcenter.gr
SUMMARY:ΔΙΑΤΡΟΦΗ: Πώς Διαβάζω Σωστά τις Ετικέτες Τροφίμων; 25/04
DESCRIPTION:Πόσες φορές έχεις βρεθεί στο σούπερ μάρκετ κοιτώντας μια συσκευασία και αναρωτιέσαι:\n«Είναι τελικά υγιεινό;»\n«Έχει πολλή ζάχαρη;»\n«Κάνει για το παιδί μου;» \nΣε αυτό το online μάθημα μαθαίνουμε να διαβάζουμε σωστά τις ετικέτες τροφίμων και να κάνουμε πιο συνειδητές επιλογές. \nΤι θα μάθεις: \n Πώς να διαβάζεις σωστά τον πίνακα διατροφικής δήλωσης\n Πώς να συγκρίνεις προϊόντα (και γιατί δεν κοιτάμε μόνο τις θερμίδες)\n Πώς να εντοπίζεις τα “κρυμμένα” σάκχαρα\n Τι σημαίνουν πραγματικά οι ισχυρισμοί «χωρίς ζάχαρη»\, «light»\, «ολικής άλεσης»\n Πώς να επιλέγεις πιο σωστά προϊόντα για το παιδί σου\n Ποιες είναι οι πιο συχνές παγίδες στα παιδικά προϊόντα \nΤο σεμινάριο απευθύνεται σε: \n\nΣε εγκύους που θέλουν να οργανώσουν καλύτερα τη διατροφή τους\nΣε γονείς που επιλέγουν τρόφιμα για το σπίτι & το σχολικό κολατσιό\nΣε όποιον θέλει να μάθει να “αποκωδικοποιεί” μια συσκευασία τροφίμου\n\n📢Ένα μάθημα απόλυτα πρακτικό\, καθώς θα δούμε πραγματικά παραδείγματα ετικετών\, θα συγκρίνουμε προϊόντα και θα μάθεις  tips για το πως να επιλέγεις άμεσα τα σωστά προϊόντα ανάλογα με τις ανάγκε σου από το ράφι του σούπερ μάρκετ. \n\n\n \n  \nΤο μάθημα θα κάνει η Κλινική Διαιτολόγος – Διατροφολόγος\n& Συνεργάτιδα του MNB CENTER \nΦανή Οικονομοπούλου \n\n\n  \n  \n\n\nΗ Διατροφολόγος βραβεύτηκε το 2023 με το Silver Award στα βραβεία Mother and Baby Awards 2023 για το Best After Birth Recovery Program και την Διατροφική Αγωγή σε Εγκύους Παιδιά κ Θηλάζουσες \nΚρατήστε σήμερα τη θέση σας! \n \n  \n \n\n\n 
URL:https://www.mnbcenter.gr/seminario/diatrofi-pos-diavazo-sosta-tis-etiketes-trofimon/
CATEGORIES:ONLINE ΜΑΘΗΜΑΤΑ,ΓΙΑ ΤΗΝ ΕΓΚΥΟ,ΓΙΑ ΤΟ ΝΗΠΙΟ 1-5 ΕΤΩΝ,ΓΙΑ ΤΟΝ ΘΗΛΑΣΜΟ,ΔΙΑΤΡΟΦΗ,ΔΙΑΤΡΟΦΗ ΕΝΗΛΙΚΩΝ,ΔΙΑΤΡΟΦΗ ΝΗΠΙΟΥ 1-5 ΕΤΩΝ,ΔΩΡΕΑΝ ΣΕΜΙΝΑΡΙΑ
ATTACH;FMTTYPE=image/jpeg:https://www.mnbcenter.gr/wp-content/uploads/2026/02/new-cover-2.jpg
LOCATION:https://www.mnbcenter.gr/seminario/diatrofi-pos-diavazo-sosta-tis-etiketes-trofimon/
END:VEVENT
END:VCALENDAR