    BEGIN:VCALENDAR
VERSION:2.0
PRODID:-//MNB Center - ECPv6.15.13.1//NONSGML v1.0//EN
CALSCALE:GREGORIAN
METHOD:PUBLISH
X-WR-CALNAME:MNB Center
X-ORIGINAL-URL:https://www.mnbcenter.gr
X-WR-CALDESC:Events for MNB Center
REFRESH-INTERVAL;VALUE=DURATION:PT1H
X-Robots-Tag:noindex
X-PUBLISHED-TTL:PT1H
BEGIN:VTIMEZONE
TZID:Europe/Athens
BEGIN:DAYLIGHT
TZOFFSETFROM:+0200
TZOFFSETTO:+0300
TZNAME:EEST
DTSTART:20250330T010000
END:DAYLIGHT
BEGIN:STANDARD
TZOFFSETFROM:+0300
TZOFFSETTO:+0200
TZNAME:EET
DTSTART:20251026T010000
END:STANDARD
BEGIN:DAYLIGHT
TZOFFSETFROM:+0200
TZOFFSETTO:+0300
TZNAME:EEST
DTSTART:20260329T010000
END:DAYLIGHT
BEGIN:STANDARD
TZOFFSETFROM:+0300
TZOFFSETTO:+0200
TZNAME:EET
DTSTART:20261025T010000
END:STANDARD
BEGIN:DAYLIGHT
TZOFFSETFROM:+0200
TZOFFSETTO:+0300
TZNAME:EEST
DTSTART:20270328T010000
END:DAYLIGHT
BEGIN:STANDARD
TZOFFSETFROM:+0300
TZOFFSETTO:+0200
TZNAME:EET
DTSTART:20271031T010000
END:STANDARD
END:VTIMEZONE
BEGIN:VEVENT
DTSTART;TZID=Europe/Athens:20260424T173000
DTEND;TZID=Europe/Athens:20260424T190000
DTSTAMP:20260424T013233
CREATED:20260217T182429Z
LAST-MODIFIED:20260327T102356Z
UID:144707-1777051800-1777057200@www.mnbcenter.gr
SUMMARY:ΤΟΚΕΤΟΣ ΜΕ ΚΑΙΣΑΡΙΚΗ ΤΟΜΗ 24/04
DESCRIPTION:Ο τοκετός είναι μια μοναδική και ανεπανάληπτη εμπειρία! Όμως\, για πολλές γυναίκες – ειδικά αν πρόκειται για την πρώτη τους φορά – μπορεί να συνοδεύεται από άγχος και αβεβαιότητα. Η προετοιμασία είναι το κλειδί για να νιώσετε σιγουριά και ηρεμία. \nΣτο σεμινάριο τοκετού με καισαρική τομή\, θα μάθετε όλα όσα χρειάζεστε για να αντιμετωπίσετε τη διαδικασία με αυτοπεποίθηση. Οι έμπειρες μαίες μας θα σας καθοδηγήσουν\, εξηγώντας: \n✅ Πότε και γιατί επιλέγεται η καισαρική τομή – είτε προγραμματισμένα είτε ως επείγουσα ανάγκη.✅ Ποια είναι τα στάδια της διαδικασίας – από την προετοιμασία μέχρι την ανάρρωση.✅ Πώς διαφέρει από τον φυσιολογικό τοκετό – τι να περιμένετε\, πλεονεκτήματα & μειονεκτήματα.✅ Ποια είδη αναισθησίας υπάρχουν – τι θα νιώσετε και τι να περιμένετε στο χειρουργείο.✅ Τι χρειάζεται να έχετε μαζί σας στο μαιευτήριο – όλα όσα θα κάνουν τη διαδικασία πιο άνετη. \n🎯 Στόχος μας; Να σας προσφέρουμε γνώση\, σιγουριά και ηρεμία\, ώστε να βιώσετε αυτή τη σημαντική στιγμή με όσο το δυνατόν λιγότερο άγχος. \nΕλάτε να προετοιμαστούμε μαζί για μια εμπειρία τοκετού με ασφάλεια και εμπιστοσύνη! \n  \n \n*Για να γίνει κράτηση θέσης σε οποιοδήποτε σεμινάριο μας\, απαιτείται πρώτα να έχετε κάνει εγγραφή και σύνδεση στο site μας \nΜετά την κράτηση θα λάβεις email με οδηγίες παρακολούθησης του σεμιναρίου. Έχε το νου σου στην ανεπιθύμητη αλληλογραφία και αν έχεις gmail στον φάκελο εισερχόμενων που ονομάζεται Προσφορές/ Προωθήσεις.
URL:https://www.mnbcenter.gr/seminario/toketos-me-kaisariki-tomi-24-04/
CATEGORIES:MINI GROUP CLASSES,ONLINE ΜΑΘΗΜΑΤΑ,ΓΙΑ ΤΗΝ ΕΓΚΥΟ,ΓΙΑ ΤΟΝ ΤΟΚΕΤΟ,ΚΑΙΣΑΡΙΚΗ ΤΟΜΗ,ΜΑΘΗΜΑ 2,ΜΑΘΗΜΑ 3,ΜΑΘΗΜΑ 4,ΜΑΘΗΜΑ 5,ΜΑΘΗΜΑ 6,ΜΑΘΗΜΑ 7,ΠΡΟΓΕΝΝΗΤΙΚΑ
ATTACH;FMTTYPE=image/jpeg:https://www.mnbcenter.gr/wp-content/uploads/2024/03/new-cover_καισαρικη.jpg
LOCATION:https://www.mnbcenter.gr/seminario/toketos-me-kaisariki-tomi-24-04/
END:VEVENT
END:VCALENDAR